BEGIN:VCALENDAR
PRODID:-//eluceo/ical//2.0/EN
VERSION:2.0
CALSCALE:GREGORIAN
BEGIN:VEVENT
UID:1fb1470489c457dc3d6e4ba93cbcd791
DTSTAMP:20260422T143144Z
SUMMARY:Rebel Swing: Lindy Hop Party
DESCRIPTION:Dance&nbsp\;that&nbsp\;hot&nbsp\;Lindy!&nbsp\;What&nbsp\;else..
 .?Lindy&nbsp\;Hop&nbsp\;Party&nbsp\;offen&nbsp\;für&nbsp\;alle\,&nbsp\;ke
 ine&nbsp\;Tanzpartner:innen&nbsp\;nötig\,&nbsp\;kein&nbsp\;Vorverkauf&nbs
 p\;(nur&nbsp\;Abendkasse).20.00&nbsp\;Lindy&nbsp\;Hop&nbsp\;Crash-Kurs&nbs
 p\;für&nbsp\;Anfänger:innen21.00&nbsp\;SocialdanceEintritt:&nbsp\;Crashk
 urs&nbsp\;für&nbsp\;Anfänger:innen:&nbsp\;10.-Party&nbsp\;(ab&nbsp\;21.0
 0):&nbsp\;10.-&nbsp\;/&nbsp\;15.-&nbsp\;/&nbsp\;20.-&nbsp\;(wähle&nbsp\;d
 einen&nbsp\;Preis)@&nbsp\;The&nbsp\;Rhythm&nbsp\;Rebels&nbsp\;Swing&nbsp\;
 Dance&nbsp\;Studio&nbsp\;(Aarbergergasse&nbsp\;40\,&nbsp\;3011&nbsp\;Bern)
 Glastür&nbsp\;links&nbsp\;im&nbsp\;Innenhof\,&nbsp\;im&nbsp\;4.&nbsp\;Sto
 ckCode&nbsp\;für&nbsp\;die&nbsp\;Eingangstür&nbsp\;unten:&nbsp\;"4011F"w
 ww.rhythmrebels.ch/tanzWichtig:&nbsp\;An&nbsp\;diesem&nbsp\;Anlass&nbsp\;k
 ann&nbsp\;für&nbsp\;Werbezwecke&nbsp\;gefilmt&nbsp\;werden&nbsp\;oder&nbs
 p\;Fotos&nbsp\;können&nbsp\;gemacht&nbsp\;werden&nbsp\;(diese&nbsp\;werde
 n&nbsp\;auf&nbsp\;Socialmedia-Kanälen&nbsp\;eingesetzt).&nbsp\;Wenn&nbsp\
 ;du&nbsp\;nicht&nbsp\;darauf&nbsp\;sein&nbsp\;möchtest\,&nbsp\;melde&nbsp
 \;dich&nbsp\;an&nbsp\;der&nbsp\;Eintrittskasse.&nbsp\;\n\nVeranstaltungsor
 t: \nThe Rhythm Rebels\nAarbergergasse 40\n3011 Bern\nKarte: https://map.s
 earch.ch/Bern\,Aarbergergasse-40
DTSTART:20260620T200000
DTEND:20260621T210000
LOCATION:Aarbergergasse 40\, 3011 Bern
END:VEVENT
END:VCALENDAR
An internal server error occurred.