BEGIN:VCALENDAR
PRODID:-//eluceo/ical//2.0/EN
VERSION:2.0
CALSCALE:GREGORIAN
BEGIN:VEVENT
UID:c6df1fbaa2b9a90a6e923df5d503d42a
DTSTAMP:20260422T154351Z
SUMMARY:HotPot (Lindy\, Blues & Forró)
DESCRIPTION:Lindy Hop - Forró - Blues Dance!Gemischte Party offen für all
 e. Kein Vorverkauf\, nur Abendkasse. Keine Tanzpartner:in nötig.Mit Einst
 eigerkurse für Anfänger:innen20.00 Lindy Kurs20.30 Forró Kurs21.00 Blue
 s Kurs21.30 Party aiaiaiiii! Stylwechsel alle 3-4 songs.&nbsp\;Eintritt f
 ür Crashkurse: 10.-Eintritt für Party: 10.- / 15.-&nbsp\;/ 20.-@ The Rhy
 thm RebelsTürcode: 4011Fwww.rhythmrebels.ch/tanzWichtig:&nbsp\;An&nbsp\;d
 iesem&nbsp\;Anlass&nbsp\;kann&nbsp\;für&nbsp\;Werbezwecke&nbsp\;gefilmt&n
 bsp\;werden&nbsp\;oder&nbsp\;Fotos&nbsp\;können&nbsp\;gemacht&nbsp\;werde
 n&nbsp\;(diese&nbsp\;werden&nbsp\;auf&nbsp\;Socialmedia-Kanälen&nbsp\;ein
 gesetzt).&nbsp\;Wenn&nbsp\;du&nbsp\;nicht&nbsp\;darauf&nbsp\;sein&nbsp\;m
 öchtest\,&nbsp\;melde&nbsp\;dich&nbsp\;an&nbsp\;der&nbsp\;Eintrittskasse.
 &nbsp\;\n\nVeranstaltungsort: \nThe Rhythm Rebels\nAarbergergasse 40\n3011
  Bern\nKarte: https://map.search.ch/Bern\,Aarbergergasse-40
DTSTART:20280101T200000
DTEND:20280101T003000
LOCATION:Aarbergergasse 40\, 3011 Bern
END:VEVENT
END:VCALENDAR
An internal server error occurred.