BEGIN:VCALENDAR
PRODID:-//eluceo/ical//2.0/EN
VERSION:2.0
CALSCALE:GREGORIAN
BEGIN:VEVENT
UID:84349ab0426e2c0894bffc3abf7f4115
DTSTAMP:20260422T143343Z
SUMMARY:Swingsalabim Münsingen
DESCRIPTION:Swingsalabim 26! Wir freuen uns. Info und Ticket unter swingsal
 abim.ch \n\nVeranstaltungsort: \nSchlossgut Gemeindesaal\nSchlosstraße 8\
 n3110 Münsingen\nKarte: https://map.search.ch/Münsingen\,Schlosstraße-8
DTSTART:20260501T190000
DTEND:20260503T150000
LOCATION:Schlosstraße 8\, 3110 Münsingen
END:VEVENT
END:VCALENDAR
An internal server error occurred.