BEGIN:VCALENDAR
PRODID:-//eluceo/ical//2.0/EN
VERSION:2.0
CALSCALE:GREGORIAN
BEGIN:VEVENT
UID:e76b34ae5828463df650fb15cdae7077
DTSTAMP:20260422T143144Z
SUMMARY:swing2do
DESCRIPTION:Lindy Hop mal gemütlich - mal wild\, mal poppig - mal soulig\,
  aber immer swingend!Der Anlass mit dem typisch autonomen DJ-Sound\, Steal
 ing und Lichterketten.\n\nVeranstaltungsort: \nRestaurant Veranda / Garten
 raum\nSchanzeneckstr. 25\n3012 Bern\nKarte: https://map.search.ch/Bern\,Sc
 hanzeneckstr.-25
DTSTART:20260910T200000
DTEND:20260910T230000
LOCATION:Schanzeneckstr. 25\, 3012 Bern
END:VEVENT
END:VCALENDAR
An internal server error occurred.