BEGIN:VCALENDAR
PRODID:-//eluceo/ical//2.0/EN
VERSION:2.0
CALSCALE:GREGORIAN
BEGIN:VEVENT
UID:2d721c30811ac43f049a029905234609
DTSTAMP:20260422T143218Z
SUMMARY:swing2do
DESCRIPTION:Lindy Hop mal gemütlich - mal wild\, mal poppig - mal soulig\,
  aber immer swingend!Der Anlass mit dem typisch autonomen DJ-Sound\, Steal
 ing und Lichterketten.\n\nVeranstaltungsort: \nRestaurant Veranda / Garten
 raum\nSchanzeneckstr. 25\n3012 Bern\nKarte: https://map.search.ch/Bern\,Sc
 hanzeneckstr.-25
DTSTART:20261210T200000
DTEND:20261210T230000
LOCATION:Schanzeneckstr. 25\, 3012 Bern
END:VEVENT
END:VCALENDAR
An internal server error occurred.