BEGIN:VCALENDAR
PRODID:-//eluceo/ical//2.0/EN
VERSION:2.0
CALSCALE:GREGORIAN
BEGIN:VEVENT
UID:c287e1e9ff4ad06dcf9338ee16d73ad0
DTSTAMP:20260422T143033Z
SUMMARY:BEswingt
DESCRIPTION:ab 22 Uhr Live-Musik: Jérôme De Carli Trio\, feat. Nicole Egg
 enbergerJérôme De Carli - pianoNicole Eggenberger - vocLorenz Beyeler - 
 bassGregor Lisser - drums\n\nVeranstaltungsort: \nAula im PROGR\nSpeicherg
 asse 4\n3011 Bern\nKarte: https://map.search.ch/Bern\,Speichergasse-4
DTSTART:20260530T203000
DTEND:20260531T013000
LOCATION:Speichergasse 4\, 3011 Bern
END:VEVENT
END:VCALENDAR
An internal server error occurred.