BEGIN:VCALENDAR
PRODID:-//eluceo/ical//2.0/EN
VERSION:2.0
CALSCALE:GREGORIAN
BEGIN:VEVENT
UID:2414414b7860343d8e3727dfada3608a
DTSTAMP:20260422T154704Z
SUMMARY:BEswingt
DESCRIPTION:20.30 Shag Crashkurs\n\nVeranstaltungsort: \nAula im PROGR\nSpe
 ichergasse 4\n3011 Bern\nKarte: https://map.search.ch/Bern\,Speichergasse-
 4
DTSTART:20261024T203000
DTEND:20261024T013000
LOCATION:Speichergasse 4\, 3011 Bern
END:VEVENT
END:VCALENDAR
An internal server error occurred.