BEGIN:VCALENDAR
PRODID:-//eluceo/ical//2.0/EN
VERSION:2.0
CALSCALE:GREGORIAN
BEGIN:VEVENT
UID:10c84fc743ffc3c18c9d81a67b7b8fae
DTSTAMP:20260422T143027Z
SUMMARY:BEswingt
DESCRIPTION:\n\nVeranstaltungsort: \nAula im PROGR\nSpeichergasse 4\n3011 B
 ern\nKarte: https://map.search.ch/Bern\,Speichergasse-4
DTSTART:20261212T203000
DTEND:20261212T013000
LOCATION:Speichergasse 4\, 3011 Bern
END:VEVENT
END:VCALENDAR
An internal server error occurred.