BEGIN:VCALENDAR
PRODID:-//eluceo/ical//2.0/EN
VERSION:2.0
CALSCALE:GREGORIAN
BEGIN:VEVENT
UID:ea6a283d195dcc93d8d9677e4bceffef
DTSTAMP:20260422T154311Z
SUMMARY:Swing ONO
DESCRIPTION:Wir&nbsp\;tanzen&nbsp\;unter&nbsp\;der&nbsp\;Discokugel&nbsp\;i
 m&nbsp\;schönen&nbsp\;Gewölbekeller&nbsp\;zur&nbsp\;Musik&nbsp\;von&nbsp
 \;DJ&nbsp\;Tom.\n\nVeranstaltungsort: \nONO\nKramgasse 6\n3011 Bern\nKarte
 : https://map.search.ch/Bern\,Kramgasse-6
DTSTART:20261220T200000
DTEND:20261220T230000
LOCATION:Kramgasse 6\, 3011 Bern
END:VEVENT
END:VCALENDAR
An internal server error occurred.