BEGIN:VCALENDAR
PRODID:-//eluceo/ical//2.0/EN
VERSION:2.0
CALSCALE:GREGORIAN
BEGIN:VEVENT
UID:765860b896e5b95186bd6be3e98da886
DTSTAMP:20260422T143033Z
SUMMARY:Sommer-Balberna
DESCRIPTION:Sommer-Balberna&nbsp\;mit&nbsp\;Apéro/Picknick&nbsp\;auf&nbsp\
 ;der&nbsp\;Rhythm&nbsp\;Rebels&nbsp\;Terrasse.\n\nVeranstaltungsort: \nThe
  Rhythm Rebels\nAarbergergasse 40\n3011 Bern\nKarte: https://map.search.ch
 /Bern\,Aarbergergasse-40
DTSTART:20260612T190000
DTEND:20260612T233000
LOCATION:Aarbergergasse 40\, 3011 Bern
END:VEVENT
END:VCALENDAR
An internal server error occurred.