BEGIN:VCALENDAR
PRODID:-//eluceo/ical//2.0/EN
VERSION:2.0
CALSCALE:GREGORIAN
BEGIN:VEVENT
UID:04a33a5ced913b7f32110d78b7c1e0c7
DTSTAMP:20260422T143150Z
SUMMARY:Swing Time Friday
DESCRIPTION:\n\nVeranstaltungsort: \nThe Rhythm Rebels\nAarbergergasse 40\n
 3011 Bern\nKarte: https://map.search.ch/Bern\,Aarbergergasse-40
DTSTART:20260619T210000
DTEND:20260619T233000
LOCATION:Aarbergergasse 40\, 3011 Bern
END:VEVENT
END:VCALENDAR
An internal server error occurred.