BEGIN:VCALENDAR
PRODID:-//eluceo/ical//2.0/EN
VERSION:2.0
CALSCALE:GREGORIAN
BEGIN:VEVENT
UID:2388d8ef9bc237beeb829d5a597550c8
DTSTAMP:20260422T143150Z
SUMMARY:Swing Time Friday
DESCRIPTION:\n\nVeranstaltungsort: \nThe Rhythm Rebels\nAarbergergasse 40\n
 3011 Bern\nKarte: https://map.search.ch/Bern\,Aarbergergasse-40
DTSTART:20261218T210000
DTEND:20261218T233000
LOCATION:Aarbergergasse 40\, 3011 Bern
END:VEVENT
END:VCALENDAR
An internal server error occurred.