BEGIN:VCALENDAR
PRODID:-//eluceo/ical//2.0/EN
VERSION:2.0
CALSCALE:GREGORIAN
BEGIN:VEVENT
UID:e834777c832cadac78aff7262e55f500
DTSTAMP:20260422T143312Z
SUMMARY:Monday Blues
DESCRIPTION:\n\nVeranstaltungsort: \nMahogany Hall\nKlösterlistutz 18\n Be
 rn\nKarte: https://map.search.ch/Bern\,Klösterlistutz-18
DTSTART:20260427T190000
DTEND:20260427T230000
LOCATION:Klösterlistutz 18\,  Bern
END:VEVENT
END:VCALENDAR
An internal server error occurred.