BEGIN:VCALENDAR
PRODID:-//eluceo/ical//2.0/EN
VERSION:2.0
CALSCALE:GREGORIAN
BEGIN:VEVENT
UID:c7708ec9efe342a3becf4e63d26d62fc
DTSTAMP:20260422T143022Z
SUMMARY:Swing Café (ZAK - Siedlung Burgunder)
DESCRIPTION:Es gibt es wieder das Swing Café! Tanzen bei Kaffee &amp\; Kuc
 hen und die ganze Familie ist willkommen: ab 14:30 ein kleiner Crashkurs u
 nd ab 15.00 – 18.00 Social DanceSee you @ Dancefloor\n\nVeranstaltungsor
 t: \nSiedlung Burgunder\nBurgunderstrasse 95\n Bern\nKarte: https://map.se
 arch.ch/Bern\,Burgunderstrasse-95
DTSTART:20260426T143000
DTEND:20260426T180000
LOCATION:Burgunderstrasse 95\,  Bern
END:VEVENT
END:VCALENDAR
An internal server error occurred.