BEGIN:VCALENDAR
PRODID:-//eluceo/ical//2.0/EN
VERSION:2.0
CALSCALE:GREGORIAN
BEGIN:VEVENT
UID:c243d8894393c6a1ec71e4037b454fef
DTSTAMP:20260422T154214Z
SUMMARY:Balberna
DESCRIPTION:\n\nVeranstaltungsort: \nThe Rhythm Rebels\nAarbergergasse 40\n
 3011 Bern\nKarte: https://map.search.ch/Bern\,Aarbergergasse-40
DTSTART:20261113T210000
DTEND:20261113T233000
LOCATION:Aarbergergasse 40\, 3011 Bern
END:VEVENT
END:VCALENDAR
An internal server error occurred.