BEGIN:VCALENDAR
PRODID:-//eluceo/ical//2.0/EN
VERSION:2.0
CALSCALE:GREGORIAN
BEGIN:VEVENT
UID:f7dda6a789c39d12089ee379015be3e2
DTSTAMP:20260422T143253Z
SUMMARY:be bluesed Party
DESCRIPTION:Save the date!Infos folgen...\n\nVeranstaltungsort: \nNoch Offe
 n (tbd)\nWeissnichtstrasse 0\n Bern\nKarte: https://map.search.ch/Bern\,We
 issnichtstrasse-0
DTSTART:20260910T210000
DTEND:20260910T000000
LOCATION:Weissnichtstrasse 0\,  Bern
END:VEVENT
END:VCALENDAR
An internal server error occurred.