BEGIN:VCALENDAR
PRODID:-//eluceo/ical//2.0/EN
VERSION:2.0
CALSCALE:GREGORIAN
BEGIN:VEVENT
UID:67852cd072fb8779cde449a871d96641
DTSTAMP:20260422T143145Z
SUMMARY:be bluesed Party
DESCRIPTION:Save the date!Infos folgen...\n\nVeranstaltungsort: \nNoch Offe
 n (tbd)\nWeissnichtstrasse 0\n Bern\nKarte: https://map.search.ch/Bern\,We
 issnichtstrasse-0
DTSTART:20260913T210000
DTEND:20260913T000000
LOCATION:Weissnichtstrasse 0\,  Bern
END:VEVENT
END:VCALENDAR
An internal server error occurred.