BEGIN:VCALENDAR
PRODID:-//eluceo/ical//2.0/EN
VERSION:2.0
CALSCALE:GREGORIAN
BEGIN:VEVENT
UID:41ba051566636941949733d9da97c467
DTSTAMP:20260422T143252Z
SUMMARY:Rock the Boogie @ Café des Artistes
DESCRIPTION:19:30&nbsp\;Boogie&nbsp\;Woogie&nbsp\;Schnuppertanzkurs&nbsp\;m
 it&nbsp\;Ika&nbsp\;&amp\;&nbsp\;David20:00&nbsp\;Boogie&nbsp\;Woogie&nbsp\
 ;&amp\;&nbsp\;Rock'n'Roll&nbsp\;Dance&nbsp\;Floor&nbsp\;mit&nbsp\;DJ\n\nVe
 ranstaltungsort: \nCafé des Artistes\nPapiermühlestrasse 50\n Bern\nKart
 e: https://map.search.ch/Bern\,Papiermühlestrasse-50
DTSTART:20260605T193000
DTEND:20260605T230000
LOCATION:Papiermühlestrasse 50\,  Bern
END:VEVENT
END:VCALENDAR
An internal server error occurred.