BEGIN:VCALENDAR
PRODID:-//eluceo/ical//2.0/EN
VERSION:2.0
CALSCALE:GREGORIAN
BEGIN:VEVENT
UID:27fd12abff0bfe102d5f1a52fa88ad04
DTSTAMP:20260422T154628Z
SUMMARY:Stompin' at Mahogany Hall
DESCRIPTION:Zu groovigem Swing tanzen wir in die neue Woche :)\n\nVeranstal
 tungsort: \nMahogany Hall\nKlösterlistutz 18\n Bern\nKarte: https://map.s
 earch.ch/Bern\,Klösterlistutz-18
DTSTART:20260504T200000
DTEND:20260504T230000
LOCATION:Klösterlistutz 18\,  Bern
END:VEVENT
END:VCALENDAR
An internal server error occurred.