BEGIN:VCALENDAR
PRODID:-//eluceo/ical//2.0/EN
VERSION:2.0
CALSCALE:GREGORIAN
BEGIN:VEVENT
UID:e9208a2d1f38b2825835b3ca6a20a276
DTSTAMP:20260422T143338Z
SUMMARY:Karl has the Blues 
DESCRIPTION:Am Freitag\, 13. Februar\, ist Karl has the Blues! Geniesst ein
 en bluesigen Start ins Wochenende mit Live-Musik von Amaury Faivre im Kult
 urbistro Karl Schenk.Amaury Faivre represents the emotion of blues\, the f
 reedom of jazz and the power of punk\, a rare mastery of the harmonica whi
 ch allows him to offer an intense and moving show\, surprising and sincere
 .20:00-21:00 Crashkurs21:30 Konzert Amaury Faivre&nbsp\;Danach Blues DJsEi
 ntritt frei - Kollekte\n\nVeranstaltungsort: \nKulturbistro Karl Schenk\nS
 pitalgasse 4 (2. UG)\n3011 Bern\nKarte: https://map.search.ch/Bern\,Spital
 gasse-4-(2.-UG)
DTSTART:20260612T200000
DTEND:20260612T235500
LOCATION:Spitalgasse 4 (2. UG)\, 3011 Bern
END:VEVENT
END:VCALENDAR
An internal server error occurred.