BEGIN:VCALENDAR
PRODID:-//eluceo/ical//2.0/EN
VERSION:2.0
CALSCALE:GREGORIAN
BEGIN:VEVENT
UID:9695b8efdaafd0f53c297cf460db7064
DTSTAMP:20260422T143145Z
SUMMARY:Swinging Summernight Münsingen
DESCRIPTION:Wie alle Jahre am letzten Samstag im Juli steigt auch dieses Ja
 hr wieder die legendäre swinging summernight in Münsingen. \n\nVeranstal
 tungsort: \nSchlossgutplatz\nSchlossstrasse 11\n3110 Münsingen\nKarte: ht
 tps://map.search.ch/Münsingen\,Schlossstrasse-11
DTSTART:20260725T190000
DTEND:20260725T230000
LOCATION:Schlossstrasse 11\, 3110 Münsingen
END:VEVENT
END:VCALENDAR
An internal server error occurred.