BEGIN:VCALENDAR
PRODID:-//eluceo/ical//2.0/EN
VERSION:2.0
CALSCALE:GREGORIAN
BEGIN:VEVENT
UID:29c79e470bd315157a02dbcfe5a68972
DTSTAMP:20260422T143150Z
SUMMARY:Brocki Thun tanzt
DESCRIPTION:Fröhliches&nbsp\;Lindy&nbsp\;Tanzen&nbsp\;im&nbsp\;Blaukreuz-B
 rocki&nbsp\;Thun&nbsp\;mit&nbsp\;Blue&nbsp\;Cocktail&nbsp\;Bar!&nbsp\;Geni
 ess&nbsp\;die&nbsp\;spezielle&nbsp\;Atmosphäre&nbsp\;zwischen&nbsp\;alten
 &nbsp\;Möbeln\,&nbsp\;ausrangierten&nbsp\;Elektrogeräten\,&nbsp\;Secondh
 and-Kleidern&nbsp\;und&nbsp\;antikem&nbsp\;Rössler-Geschirr.&nbsp\;Alle&n
 bsp\;sind&nbsp\;herzlich&nbsp\;willkommen.Eintritt&nbsp\;frei\,&nbsp\;Koll
 ekteBlaukreuz&nbsp\;Brocki&nbsp\;Thun\,&nbsp\;Bernstrasse&nbsp\;14\,&nbsp\
 ;3612&nbsp\;Steffisburghttps://www.blaukreuz-brocki.ch/standorte/blaukreuz
 -brocki-thun\n\nVeranstaltungsort: \nBlaukreuz Brocki Thun\nBernstrasse 14
 \n Thun\nKarte: https://map.search.ch/Thun\,Bernstrasse-14
DTSTART:20260508T190000
DTEND:20260508T220000
LOCATION:Bernstrasse 14\,  Thun
END:VEVENT
END:VCALENDAR
An internal server error occurred.