BEGIN:VCALENDAR
PRODID:-//eluceo/ical//2.0/EN
VERSION:2.0
CALSCALE:GREGORIAN
BEGIN:VEVENT
UID:f7a3a0853a031a4e000f089d003a500c
DTSTAMP:20260422T142855Z
SUMMARY:Swing Café Spezial
DESCRIPTION:Swing Café mit Liveband Things of Swingab 14:00 Crash Kursab 1
 5:00 Party mit Live-Musik\n\nVeranstaltungsort: \nCafé Hueber\nHuberstras
 se 13 A\n Bern\nKarte: https://map.search.ch/Bern\,Huberstrasse-13-A
DTSTART:20260607T140000
DTEND:20260607T180000
LOCATION:Huberstrasse 13 A\,  Bern
END:VEVENT
END:VCALENDAR
An internal server error occurred.