BEGIN:VCALENDAR
PRODID:-//eluceo/ical//2.0/EN
VERSION:2.0
CALSCALE:GREGORIAN
BEGIN:VEVENT
UID:fc68277ae86b5ea0f0214dcf4fb4ab85
DTSTAMP:20260422T142855Z
SUMMARY:Sirup\, Muffins und Shag
DESCRIPTION:Eine&nbsp\;kleine&nbsp\;Party&nbsp\;mit&nbsp\;(relativ)&nbsp\;s
 chneller&nbsp\;Musik&nbsp\;vom&nbsp\;DJ\,&nbsp\;zu&nbsp\;der&nbsp\;man&nbs
 p\;Collegiate&nbsp\;Shag&nbsp\;tanzen&nbsp\;kann.&nbsp\;Dazu&nbsp\;gibt&nb
 sp\;es&nbsp\;Sirup&nbsp\;und&nbsp\;Muffins&nbsp\;:)&nbsp\;Kommt&nbsp\;vorb
 ei!\n\nVeranstaltungsort: \nPavillon vom Cevi Bern\nRabbentalstrasse 69\n 
 Bern\nKarte: https://map.search.ch/Bern\,Rabbentalstrasse-69
DTSTART:20260429T201500
DTEND:20260429T223000
LOCATION:Rabbentalstrasse 69\,  Bern
END:VEVENT
END:VCALENDAR
An internal server error occurred.